BEGIN:VCALENDAR
VERSION:2.0
PRODID:-//Fonds 4S - ECPv6.15.20//NONSGML v1.0//EN
CALSCALE:GREGORIAN
METHOD:PUBLISH
X-WR-CALNAME:Fonds 4S
X-ORIGINAL-URL:https://www.fonds-4s.org
X-WR-CALDESC:Évènements pour Fonds 4S
REFRESH-INTERVAL;VALUE=DURATION:PT1H
X-Robots-Tag:noindex
X-PUBLISHED-TTL:PT1H
BEGIN:VTIMEZONE
TZID:Europe/Paris
BEGIN:DAYLIGHT
TZOFFSETFROM:+0100
TZOFFSETTO:+0200
TZNAME:CEST
DTSTART:20230326T010000
END:DAYLIGHT
BEGIN:STANDARD
TZOFFSETFROM:+0200
TZOFFSETTO:+0100
TZNAME:CET
DTSTART:20231029T010000
END:STANDARD
BEGIN:DAYLIGHT
TZOFFSETFROM:+0100
TZOFFSETTO:+0200
TZNAME:CEST
DTSTART:20240331T010000
END:DAYLIGHT
BEGIN:STANDARD
TZOFFSETFROM:+0200
TZOFFSETTO:+0100
TZNAME:CET
DTSTART:20241027T010000
END:STANDARD
BEGIN:DAYLIGHT
TZOFFSETFROM:+0100
TZOFFSETTO:+0200
TZNAME:CEST
DTSTART:20250330T010000
END:DAYLIGHT
BEGIN:STANDARD
TZOFFSETFROM:+0200
TZOFFSETTO:+0100
TZNAME:CET
DTSTART:20251026T010000
END:STANDARD
END:VTIMEZONE
BEGIN:VEVENT
DTSTART;TZID=Europe/Paris:20241107T130000
DTEND;TZID=Europe/Paris:20241107T143000
DTSTAMP:20260421T172243
CREATED:20240320T152125Z
LAST-MODIFIED:20240320T152125Z
UID:9063-1730984400-1730989800@www.fonds-4s.org
SUMMARY:Midi Outil : Plan de formation - rédaction et suivi
DESCRIPTION:Cliquez ici pour découvrir le programme complet et vous inscrire !
URL:https://www.fonds-4s.org/agenda/midi-outil-plan-de-formation-redaction-et-suivi/
LOCATION:En ligne
CATEGORIES:Competentia
END:VEVENT
BEGIN:VEVENT
DTSTART;TZID=Europe/Paris:20241112T090000
DTEND;TZID=Europe/Paris:20241112T110000
DTSTAMP:20260421T172243
CREATED:20240130T134334Z
LAST-MODIFIED:20240207T112347Z
UID:8899-1731402000-1731409200@www.fonds-4s.org
SUMMARY:Atelier Competentia - Introduction à la gestion des compétences
DESCRIPTION:Cliquez ici pour découvrir le programme complet et vous inscrire !
URL:https://www.fonds-4s.org/agenda/introduction-a-la-gestion-des-competences-2/
LOCATION:En ligne
CATEGORIES:Competentia
END:VEVENT
BEGIN:VEVENT
DTSTART;TZID=Europe/Paris:20241121T093000
DTEND;TZID=Europe/Paris:20241121T130000
DTSTAMP:20260421T172243
CREATED:20240130T134422Z
LAST-MODIFIED:20240207T112353Z
UID:8901-1732181400-1732194000@www.fonds-4s.org
SUMMARY:Atelier Competentia - ABC Plan de formation
DESCRIPTION:Cliquez ici pour découvrir le programme complet et vous inscrire !
URL:https://www.fonds-4s.org/agenda/abc-plan-de-formation-4/
LOCATION:APEF\, Sq. Sainctelette 13
CATEGORIES:Competentia
END:VEVENT
BEGIN:VEVENT
DTSTART;VALUE=DATE:20241122
DTEND;VALUE=DATE:20241123
DTSTAMP:20260421T172243
CREATED:20240710T090131Z
LAST-MODIFIED:20240710T090218Z
UID:9445-1732233600-1732319999@www.fonds-4s.org
SUMMARY:Journée d’étude sur le bilan de compétences
DESCRIPTION:SAVE THE DATE \nJournée d’étude sur le bilan de compétences \nCo-organisée par le CeRSO et les asbl APEF & FeBi \nPlus d’informations à venir !
URL:https://www.fonds-4s.org/agenda/journee-detude-sur-le-bilan-de-competences/
LOCATION:Louvain-la-Neuve\, Louvain-la-Neuve\, Belgique
CATEGORIES:Bilan de compétences
END:VEVENT
END:VCALENDAR