BEGIN:VCALENDAR
VERSION:2.0
PRODID:-//Fonds 4S - ECPv6.15.20//NONSGML v1.0//EN
CALSCALE:GREGORIAN
METHOD:PUBLISH
X-WR-CALNAME:Fonds 4S
X-ORIGINAL-URL:https://www.fonds-4s.org
X-WR-CALDESC:Évènements pour Fonds 4S
REFRESH-INTERVAL;VALUE=DURATION:PT1H
X-Robots-Tag:noindex
X-PUBLISHED-TTL:PT1H
BEGIN:VTIMEZONE
TZID:Europe/Paris
BEGIN:DAYLIGHT
TZOFFSETFROM:+0100
TZOFFSETTO:+0200
TZNAME:CEST
DTSTART:20230326T010000
END:DAYLIGHT
BEGIN:STANDARD
TZOFFSETFROM:+0200
TZOFFSETTO:+0100
TZNAME:CET
DTSTART:20231029T010000
END:STANDARD
BEGIN:DAYLIGHT
TZOFFSETFROM:+0100
TZOFFSETTO:+0200
TZNAME:CEST
DTSTART:20240331T010000
END:DAYLIGHT
BEGIN:STANDARD
TZOFFSETFROM:+0200
TZOFFSETTO:+0100
TZNAME:CET
DTSTART:20241027T010000
END:STANDARD
BEGIN:DAYLIGHT
TZOFFSETFROM:+0100
TZOFFSETTO:+0200
TZNAME:CEST
DTSTART:20250330T010000
END:DAYLIGHT
BEGIN:STANDARD
TZOFFSETFROM:+0200
TZOFFSETTO:+0100
TZNAME:CET
DTSTART:20251026T010000
END:STANDARD
END:VTIMEZONE
BEGIN:VEVENT
DTSTART;TZID=Europe/Paris:20240903T130000
DTEND;TZID=Europe/Paris:20240903T143000
DTSTAMP:20260421T195215
CREATED:20240320T151655Z
LAST-MODIFIED:20240320T152244Z
UID:9058-1725368400-1725373800@www.fonds-4s.org
SUMMARY:Midi Outil : Identifier les besoins en compétences
DESCRIPTION:Cliquez ici pour découvrir le programme complet et vous inscrire !
URL:https://www.fonds-4s.org/agenda/midi-outil-identifier-les-besoins-en-competences/
LOCATION:En ligne
CATEGORIES:Competentia
END:VEVENT
BEGIN:VEVENT
DTSTART;TZID=Europe/Paris:20240910T090000
DTEND;TZID=Europe/Paris:20240910T110000
DTSTAMP:20260421T195215
CREATED:20240130T134041Z
LAST-MODIFIED:20240207T112842Z
UID:8893-1725958800-1725966000@www.fonds-4s.org
SUMMARY:Atelier Competentia - Mini ABC Plan de formation
DESCRIPTION:Cliquez ici pour découvrir le programme complet et vous inscrire !
URL:https://www.fonds-4s.org/agenda/mini-abc-plan-de-formation-2/
LOCATION:En ligne
CATEGORIES:Competentia
END:VEVENT
BEGIN:VEVENT
DTSTART;TZID=Europe/Paris:20240912T090000
DTEND;TZID=Europe/Paris:20240912T110000
DTSTAMP:20260421T195215
CREATED:20240130T134139Z
LAST-MODIFIED:20240207T112715Z
UID:8895-1726131600-1726138800@www.fonds-4s.org
SUMMARY:Atelier Competentia - Introduction à la gestion des compétences
DESCRIPTION:Cliquez ici pour découvrir le programme complet et vous inscrire !
URL:https://www.fonds-4s.org/agenda/introduction-a-la-gestion-des-competences/
LOCATION:En ligne
CATEGORIES:Competentia
END:VEVENT
BEGIN:VEVENT
DTSTART;TZID=Europe/Paris:20240912T133000
DTEND;TZID=Europe/Paris:20240912T163000
DTSTAMP:20260421T195215
CREATED:20240711T105643Z
LAST-MODIFIED:20240711T105643Z
UID:9453-1726147800-1726158600@www.fonds-4s.org
SUMMARY:Focus groupe pour le secteur des arts du spectacle
DESCRIPTION:
URL:https://www.fonds-4s.org/agenda/focus-groupe-pour-le-secteur-des-arts-du-spectacle/
LOCATION:APEF\, Sq. Sainctelette 13
CATEGORIES:RPS
END:VEVENT
BEGIN:VEVENT
DTSTART;TZID=Europe/Paris:20240916T090000
DTEND;TZID=Europe/Paris:20240916T163000
DTSTAMP:20260421T195215
CREATED:20240131T130325Z
LAST-MODIFIED:20240207T112645Z
UID:8917-1726477200-1726504200@www.fonds-4s.org
SUMMARY:Atelier RPS - Burn-out : retrouver son équilibre quand tout s’accumule
DESCRIPTION:Cliquez ici pour découvrir le programme complet et vous inscrire !
URL:https://www.fonds-4s.org/agenda/burn-out-retrouver-son-equilibre-quand-tout-saccumule/
LOCATION:PSDD\, Boulevard d’Anvers 26\, Bruxelles\, 1000\, Belgique
CATEGORIES:RPS
END:VEVENT
END:VCALENDAR