BEGIN:VCALENDAR
VERSION:2.0
PRODID:-//Fonds 4S - ECPv6.15.20//NONSGML v1.0//EN
CALSCALE:GREGORIAN
METHOD:PUBLISH
X-WR-CALNAME:Fonds 4S
X-ORIGINAL-URL:https://www.fonds-4s.org
X-WR-CALDESC:Évènements pour Fonds 4S
REFRESH-INTERVAL;VALUE=DURATION:PT1H
X-Robots-Tag:noindex
X-PUBLISHED-TTL:PT1H
BEGIN:VTIMEZONE
TZID:Europe/Paris
BEGIN:DAYLIGHT
TZOFFSETFROM:+0100
TZOFFSETTO:+0200
TZNAME:CEST
DTSTART:20230326T010000
END:DAYLIGHT
BEGIN:STANDARD
TZOFFSETFROM:+0200
TZOFFSETTO:+0100
TZNAME:CET
DTSTART:20231029T010000
END:STANDARD
BEGIN:DAYLIGHT
TZOFFSETFROM:+0100
TZOFFSETTO:+0200
TZNAME:CEST
DTSTART:20240331T010000
END:DAYLIGHT
BEGIN:STANDARD
TZOFFSETFROM:+0200
TZOFFSETTO:+0100
TZNAME:CET
DTSTART:20241027T010000
END:STANDARD
BEGIN:DAYLIGHT
TZOFFSETFROM:+0100
TZOFFSETTO:+0200
TZNAME:CEST
DTSTART:20250330T010000
END:DAYLIGHT
BEGIN:STANDARD
TZOFFSETFROM:+0200
TZOFFSETTO:+0100
TZNAME:CET
DTSTART:20251026T010000
END:STANDARD
END:VTIMEZONE
BEGIN:VEVENT
DTSTART;TZID=Europe/Paris:20240507T130000
DTEND;TZID=Europe/Paris:20240507T143000
DTSTAMP:20260422T011427
CREATED:20240320T151141Z
LAST-MODIFIED:20240320T151251Z
UID:9053-1715086800-1715092200@www.fonds-4s.org
SUMMARY:Midi Outil : La description de fonction
DESCRIPTION:Cliquez ici pour découvrir le programme complet et vous inscrire !
URL:https://www.fonds-4s.org/agenda/midi-outil-la-description-de-fonction/
LOCATION:En ligne
CATEGORIES:Competentia
END:VEVENT
BEGIN:VEVENT
DTSTART;TZID=Europe/Paris:20240515T130000
DTEND;TZID=Europe/Paris:20240515T143000
DTSTAMP:20260422T011427
CREATED:20240320T151543Z
LAST-MODIFIED:20240320T151543Z
UID:9056-1715778000-1715783400@www.fonds-4s.org
SUMMARY:Midi Outil : Plan de formation - Tableau des tâches
DESCRIPTION:Cliquez ici pour découvrir le programme complet et vous inscrire !
URL:https://www.fonds-4s.org/agenda/midi-outil-plan-de-formation-tableau-des-taches/
LOCATION:En ligne
CATEGORIES:Competentia
END:VEVENT
BEGIN:VEVENT
DTSTART;TZID=Europe/Paris:20240516T093000
DTEND;TZID=Europe/Paris:20240516T130000
DTSTAMP:20260422T011427
CREATED:20240130T132118Z
LAST-MODIFIED:20240207T113318Z
UID:8886-1715851800-1715864400@www.fonds-4s.org
SUMMARY:Atelier Competentia - ABC Plan de formation
DESCRIPTION:Cliquez ici pour découvrir le programme complet et vous inscrire !
URL:https://www.fonds-4s.org/agenda/abc-plan-de-formation/
LOCATION:APEF\, Sq. Sainctelette 13
CATEGORIES:Competentia
END:VEVENT
BEGIN:VEVENT
DTSTART;TZID=Europe/Paris:20240529T090000
DTEND;TZID=Europe/Paris:20240529T120000
DTSTAMP:20260422T011427
CREATED:20240131T131044Z
LAST-MODIFIED:20240207T113254Z
UID:8931-1716973200-1716984000@www.fonds-4s.org
SUMMARY:Atelier RPS - Cycle de sensibilisation à la gestion des risques psychosociaux pour les membres de la ligne hiérarchique
DESCRIPTION:Cliquez ici pour découvrir le programme complet et vous inscrire !
URL:https://www.fonds-4s.org/agenda/cycle-de-sensibilisation-a-la-gestion-des-risques-psychosociaux-pour-les-membres-de-la-ligne-hierarchique/
LOCATION:En ligne
CATEGORIES:RPS
END:VEVENT
BEGIN:VEVENT
DTSTART;TZID=Europe/Paris:20240530T090000
DTEND;TZID=Europe/Paris:20240530T120000
DTSTAMP:20260422T011427
CREATED:20240131T131506Z
LAST-MODIFIED:20240207T113231Z
UID:8939-1717059600-1717070400@www.fonds-4s.org
SUMMARY:Atelier RPS - Comprendre le processus d’analyse des risques psychosociaux et exploration des différentes méthodologies possibles
DESCRIPTION:Cliquez ici pour découvrir le programme complet et vous inscrire !
URL:https://www.fonds-4s.org/agenda/comprendre-le-processus-danalyse-des-risques-psychosociaux-et-exploration-des-differentes-methodologies-possibles/
LOCATION:Nivelles\, Rue de l’Archiduc 1\, Nivelles\, 1400
CATEGORIES:RPS
END:VEVENT
END:VCALENDAR