BEGIN:VCALENDAR
VERSION:2.0
PRODID:-//Fonds 4S - ECPv6.15.20//NONSGML v1.0//EN
CALSCALE:GREGORIAN
METHOD:PUBLISH
X-ORIGINAL-URL:https://www.fonds-4s.org
X-WR-CALDESC:Évènements pour Fonds 4S
REFRESH-INTERVAL;VALUE=DURATION:PT1H
X-Robots-Tag:noindex
X-PUBLISHED-TTL:PT1H
BEGIN:VTIMEZONE
TZID:Europe/Paris
BEGIN:DAYLIGHT
TZOFFSETFROM:+0100
TZOFFSETTO:+0200
TZNAME:CEST
DTSTART:20230326T010000
END:DAYLIGHT
BEGIN:STANDARD
TZOFFSETFROM:+0200
TZOFFSETTO:+0100
TZNAME:CET
DTSTART:20231029T010000
END:STANDARD
BEGIN:DAYLIGHT
TZOFFSETFROM:+0100
TZOFFSETTO:+0200
TZNAME:CEST
DTSTART:20240331T010000
END:DAYLIGHT
BEGIN:STANDARD
TZOFFSETFROM:+0200
TZOFFSETTO:+0100
TZNAME:CET
DTSTART:20241027T010000
END:STANDARD
BEGIN:DAYLIGHT
TZOFFSETFROM:+0100
TZOFFSETTO:+0200
TZNAME:CEST
DTSTART:20250330T010000
END:DAYLIGHT
BEGIN:STANDARD
TZOFFSETFROM:+0200
TZOFFSETTO:+0100
TZNAME:CET
DTSTART:20251026T010000
END:STANDARD
END:VTIMEZONE
BEGIN:VEVENT
DTSTART;TZID=Europe/Paris:20240403T090000
DTEND;TZID=Europe/Paris:20240403T163000
DTSTAMP:20260422T024232
CREATED:20240131T130525Z
LAST-MODIFIED:20240207T113648Z
UID:8920-1712134800-1712161800@www.fonds-4s.org
SUMMARY:Atelier RPS - Comment rassurer et apaiser après un événement traumatique ?
DESCRIPTION:Cliquez ici pour découvrir le programme complet et vous inscrire !
URL:https://www.fonds-4s.org/agenda/comment-rassurer-et-apaiser-apres-un-evenement-traumatique/
LOCATION:Espace Kegeljan\, Rue Henri Lecocq 47\, Namur\, 5000\, Belgique
END:VEVENT
BEGIN:VEVENT
DTSTART;TZID=Europe/Paris:20240411T090000
DTEND;TZID=Europe/Paris:20240411T160000
DTSTAMP:20260422T024232
CREATED:20240131T125148Z
LAST-MODIFIED:20240207T113622Z
UID:8915-1712826000-1712851200@www.fonds-4s.org
SUMMARY:Atelier RPS - À quoi faut-il être attentif pour mener à bien et évaluer sa politique de prévention des risques psychosociaux ?
DESCRIPTION:Cliquez ici pour découvrir le programme complet et vous inscrire !
URL:https://www.fonds-4s.org/agenda/a-quoi-faut-il-etre-attentif-pour-mener-a-bien-et-evaluer-sa-politique-de-prevention-des-risques-psychosociaux/
LOCATION:En ligne
END:VEVENT
BEGIN:VEVENT
DTSTART;TZID=Europe/Paris:20240418T090000
DTEND;TZID=Europe/Paris:20240418T120000
DTSTAMP:20260422T024232
CREATED:20240131T130935Z
LAST-MODIFIED:20240207T113522Z
UID:8929-1713430800-1713441600@www.fonds-4s.org
SUMMARY:Atelier RPS - La cohésion d’équipe en travail hybride
DESCRIPTION:Cliquez ici pour découvrir le programme complet et vous inscrire !
URL:https://www.fonds-4s.org/agenda/la-cohesion-dequipe-en-travail-hybride/
LOCATION:En ligne
CATEGORIES:RPS
END:VEVENT
BEGIN:VEVENT
DTSTART;TZID=Europe/Paris:20240423T123000
DTEND;TZID=Europe/Paris:20240423T140000
DTSTAMP:20260422T024232
CREATED:20240130T135408Z
LAST-MODIFIED:20240229T103040Z
UID:8903-1713875400-1713880800@www.fonds-4s.org
SUMMARY:Bilan de compétences - Séance d'information
DESCRIPTION:
URL:https://www.fonds-4s.org/agenda/seance-dinfo-bilan-de-competences/
LOCATION:En ligne
END:VEVENT
BEGIN:VEVENT
DTSTART;TZID=Europe/Paris:20240425T090000
DTEND;TZID=Europe/Paris:20240425T110000
DTSTAMP:20260422T024232
CREATED:20240130T131957Z
LAST-MODIFIED:20240207T113456Z
UID:8883-1714035600-1714042800@www.fonds-4s.org
SUMMARY:Atelier Competentia - Mini ABC Plan de formation
DESCRIPTION:Cliquez ici pour découvrir le programme complet et vous inscrire !
URL:https://www.fonds-4s.org/agenda/mini-abc-plan-de-formation/
LOCATION:En ligne
CATEGORIES:Competentia
END:VEVENT
BEGIN:VEVENT
DTSTART;TZID=Europe/Paris:20240425T093000
DTEND;TZID=Europe/Paris:20240425T163000
DTSTAMP:20260422T024232
CREATED:20240131T130659Z
LAST-MODIFIED:20240207T113408Z
UID:8923-1714037400-1714062600@www.fonds-4s.org
SUMMARY:Atelier RPS - Gestion des compétences et RPS
DESCRIPTION:Cliquez ici pour découvrir le programme complet et vous inscrire !
URL:https://www.fonds-4s.org/agenda/gestion-des-competences-et-rps/
LOCATION:CeRSO\, Rue de l’Hocaille 10\, Louvain-la-neuve\, 1348\, Belgique
CATEGORIES:RPS
END:VEVENT
BEGIN:VEVENT
DTSTART;TZID=Europe/Paris:20240426T090000
DTEND;TZID=Europe/Paris:20240426T170000
DTSTAMP:20260422T024232
CREATED:20240131T130838Z
LAST-MODIFIED:20240207T113344Z
UID:8926-1714122000-1714150800@www.fonds-4s.org
SUMMARY:Atelier RPS - Anticiper et gérer les RPS en télétravail : mettre les curseurs aux bons endroits
DESCRIPTION:Cliquez ici pour découvrir le programme complet et vous inscrire !
URL:https://www.fonds-4s.org/agenda/anticiper-et-gerer-les-rps-en-teletravail-mettre-les-curseurs-aux-bons-endroits/
LOCATION:Henallux\, Rue de l’Arsenal 10\, Namur\, 5000
CATEGORIES:RPS
END:VEVENT
END:VCALENDAR