BEGIN:VCALENDAR
VERSION:2.0
PRODID:-//Fonds 4S - ECPv6.15.20//NONSGML v1.0//EN
CALSCALE:GREGORIAN
METHOD:PUBLISH
X-WR-CALNAME:Fonds 4S
X-ORIGINAL-URL:https://www.fonds-4s.org
X-WR-CALDESC:Évènements pour Fonds 4S
REFRESH-INTERVAL;VALUE=DURATION:PT1H
X-Robots-Tag:noindex
X-PUBLISHED-TTL:PT1H
BEGIN:VTIMEZONE
TZID:Europe/Paris
BEGIN:DAYLIGHT
TZOFFSETFROM:+0100
TZOFFSETTO:+0200
TZNAME:CEST
DTSTART:20240331T010000
END:DAYLIGHT
BEGIN:STANDARD
TZOFFSETFROM:+0200
TZOFFSETTO:+0100
TZNAME:CET
DTSTART:20241027T010000
END:STANDARD
BEGIN:DAYLIGHT
TZOFFSETFROM:+0100
TZOFFSETTO:+0200
TZNAME:CEST
DTSTART:20250330T010000
END:DAYLIGHT
BEGIN:STANDARD
TZOFFSETFROM:+0200
TZOFFSETTO:+0100
TZNAME:CET
DTSTART:20251026T010000
END:STANDARD
BEGIN:DAYLIGHT
TZOFFSETFROM:+0100
TZOFFSETTO:+0200
TZNAME:CEST
DTSTART:20260329T010000
END:DAYLIGHT
BEGIN:STANDARD
TZOFFSETFROM:+0200
TZOFFSETTO:+0100
TZNAME:CET
DTSTART:20261025T010000
END:STANDARD
END:VTIMEZONE
BEGIN:VEVENT
DTSTART;TZID=Europe/Paris:20250318T090000
DTEND;TZID=Europe/Paris:20250318T123000
DTSTAMP:20260421T130949
CREATED:20241121T111351Z
LAST-MODIFIED:20241210T104614Z
UID:9653-1742288400-1742301000@www.fonds-4s.org
SUMMARY:Politique concertée de formation : de notre réalité aux solutions (Ancolie - Bruxelles)
DESCRIPTION:> Pour vous inscrire : cliquez ici ! < \nIntitulé : Politique concertée de formation : de notre réalité aux solutions \nDate : Mardi 18/03/2025 – de 9h à 12h30 \nLocalisation : Bruxelles – Square Sainctelette 13/15 à 1000 Bruxelles (locaux de l’APEF et du Fonds 4S – Bâtiment EOLIS) \nTarif : Gratuit \nOpérateur : Ancolie asbl \nIntervenant·e : Laurence Laffargue\, consultante pour l’asbl Ancolie \nPublic cible : Direction\, responsables et cadres\, GRH\, représentant·e·s syndicaux·ales… qui sont ou seront impliqué·e·s dans la mise en place d’une PCF et qui rencontrent des difficultés au niveau du lancement ou dans le processus en cours \nObjectifs : \n\nIdentifier les blocages dans le lancement ou l’avancement de la mise en place de la PCF\nDésamorcer les freins éventuels à entrer dans la démarche ou à poursuivre celle-ci\nEchanger et produire ensemble des solutions pertinentes\nPlanifier les actions à entreprendre au sein de son asbl\n\nDescription : L’atelier utilisera le principe de l’intelligence collective favorisée par des outils d’animation innovants\, dynamiques et favorisant la créativité. \nChaque participant·e sera sollicité·e à partager ses difficultés\, expériences et propositions au moyen d’outils co-créatifs\, de la définition de sa demande à la mise par écrit de pistes de solutions. \nLes outils d’animation favoriseront la mise en commun des compétences\, connaissances\, expériences\, capacités de réflexion et de résolution de problèmes… au service d’un objectif commun (principe de l’intelligence collective). \nL’atelier sera animé en se centrant sur l’analyse commune des causes de la problématique du·de la participant·e et la recherche de solutions en groupe (vers l’avenir et le QUOI) plutôt que sur l’état des lieux de situations et les détails de la mise en application (le passé et le Comment).  L’objectif de ce focus : ressortir avec des pistes concrètes de mise en action. \n> Pour vous inscrire : cliquez ici ! <
URL:https://www.fonds-4s.org/agenda/politique-concertee-de-formation-de-notre-realite-aux-solutions/
LOCATION:APEF\, Sq. Sainctelette 13
CATEGORIES:Atelier PCF 2025
ATTACH;FMTTYPE=image/jpeg:https://www.fonds-4s.org/wp-content/uploads/2023/07/Atelier-competentia-02-scaled.jpg
END:VEVENT
END:VCALENDAR