BEGIN:VCALENDAR
VERSION:2.0
PRODID:-//Fonds 4S - ECPv6.15.20//NONSGML v1.0//EN
CALSCALE:GREGORIAN
METHOD:PUBLISH
X-WR-CALNAME:Fonds 4S
X-ORIGINAL-URL:https://www.fonds-4s.org
X-WR-CALDESC:Évènements pour Fonds 4S
REFRESH-INTERVAL;VALUE=DURATION:PT1H
X-Robots-Tag:noindex
X-PUBLISHED-TTL:PT1H
BEGIN:VTIMEZONE
TZID:Europe/Paris
BEGIN:DAYLIGHT
TZOFFSETFROM:+0100
TZOFFSETTO:+0200
TZNAME:CEST
DTSTART:20230326T010000
END:DAYLIGHT
BEGIN:STANDARD
TZOFFSETFROM:+0200
TZOFFSETTO:+0100
TZNAME:CET
DTSTART:20231029T010000
END:STANDARD
BEGIN:DAYLIGHT
TZOFFSETFROM:+0100
TZOFFSETTO:+0200
TZNAME:CEST
DTSTART:20240331T010000
END:DAYLIGHT
BEGIN:STANDARD
TZOFFSETFROM:+0200
TZOFFSETTO:+0100
TZNAME:CET
DTSTART:20241027T010000
END:STANDARD
BEGIN:DAYLIGHT
TZOFFSETFROM:+0100
TZOFFSETTO:+0200
TZNAME:CEST
DTSTART:20250330T010000
END:DAYLIGHT
BEGIN:STANDARD
TZOFFSETFROM:+0200
TZOFFSETTO:+0100
TZNAME:CET
DTSTART:20251026T010000
END:STANDARD
END:VTIMEZONE
BEGIN:VEVENT
DTSTART;TZID=Europe/Paris:20241007T090000
DTEND;TZID=Europe/Paris:20241007T163000
DTSTAMP:20260421T194607
CREATED:20240131T131351Z
LAST-MODIFIED:20240207T112329Z
UID:8937-1728291600-1728318600@www.fonds-4s.org
SUMMARY:Atelier RPS - "Approche participative des risques et de la qualité de vie au travail : la méthode Team’Act"
DESCRIPTION:Cliquez ici pour découvrir le programme complet et vous inscrire !
URL:https://www.fonds-4s.org/agenda/approche-participative-des-risques-et-de-la-qualite-de-vie-au-travail-la-methode-teamact/
LOCATION:En ligne
CATEGORIES:RPS
END:VEVENT
END:VCALENDAR