BEGIN:VCALENDAR
VERSION:2.0
PRODID:-//Fonds 4S - ECPv6.15.20//NONSGML v1.0//EN
CALSCALE:GREGORIAN
METHOD:PUBLISH
X-ORIGINAL-URL:https://www.fonds-4s.org
X-WR-CALDESC:Évènements pour Fonds 4S
REFRESH-INTERVAL;VALUE=DURATION:PT1H
X-Robots-Tag:noindex
X-PUBLISHED-TTL:PT1H
BEGIN:VTIMEZONE
TZID:Europe/Paris
BEGIN:DAYLIGHT
TZOFFSETFROM:+0100
TZOFFSETTO:+0200
TZNAME:CEST
DTSTART:20230326T010000
END:DAYLIGHT
BEGIN:STANDARD
TZOFFSETFROM:+0200
TZOFFSETTO:+0100
TZNAME:CET
DTSTART:20231029T010000
END:STANDARD
BEGIN:DAYLIGHT
TZOFFSETFROM:+0100
TZOFFSETTO:+0200
TZNAME:CEST
DTSTART:20240331T010000
END:DAYLIGHT
BEGIN:STANDARD
TZOFFSETFROM:+0200
TZOFFSETTO:+0100
TZNAME:CET
DTSTART:20241027T010000
END:STANDARD
BEGIN:DAYLIGHT
TZOFFSETFROM:+0100
TZOFFSETTO:+0200
TZNAME:CEST
DTSTART:20250330T010000
END:DAYLIGHT
BEGIN:STANDARD
TZOFFSETFROM:+0200
TZOFFSETTO:+0100
TZNAME:CET
DTSTART:20251026T010000
END:STANDARD
END:VTIMEZONE
BEGIN:VEVENT
DTSTART;TZID=Europe/Paris:20240916T090000
DTEND;TZID=Europe/Paris:20240916T163000
DTSTAMP:20260421T210942
CREATED:20240131T130325Z
LAST-MODIFIED:20240207T112645Z
UID:8917-1726477200-1726504200@www.fonds-4s.org
SUMMARY:Atelier RPS - Burn-out : retrouver son équilibre quand tout s’accumule
DESCRIPTION:Cliquez ici pour découvrir le programme complet et vous inscrire !
URL:https://www.fonds-4s.org/agenda/burn-out-retrouver-son-equilibre-quand-tout-saccumule/
LOCATION:PSDD\, Boulevard d’Anvers 26\, Bruxelles\, 1000\, Belgique
CATEGORIES:RPS
END:VEVENT
END:VCALENDAR